BEGIN:VCALENDAR
VERSION:2.0
PRODID:-//Nok. Hamar - ECPv6.15.20//NONSGML v1.0//EN
CALSCALE:GREGORIAN
METHOD:PUBLISH
X-WR-CALNAME:Nok. Hamar
X-ORIGINAL-URL:https://nokhamar.no
X-WR-CALDESC:Arrangement for Nok. Hamar
REFRESH-INTERVAL;VALUE=DURATION:PT1H
X-Robots-Tag:noindex
X-PUBLISHED-TTL:PT1H
BEGIN:VTIMEZONE
TZID:Europe/Oslo
BEGIN:DAYLIGHT
TZOFFSETFROM:+0100
TZOFFSETTO:+0200
TZNAME:CEST
DTSTART:20250330T010000
END:DAYLIGHT
BEGIN:STANDARD
TZOFFSETFROM:+0200
TZOFFSETTO:+0100
TZNAME:CET
DTSTART:20251026T010000
END:STANDARD
BEGIN:DAYLIGHT
TZOFFSETFROM:+0100
TZOFFSETTO:+0200
TZNAME:CEST
DTSTART:20260329T010000
END:DAYLIGHT
BEGIN:STANDARD
TZOFFSETFROM:+0200
TZOFFSETTO:+0100
TZNAME:CET
DTSTART:20261025T010000
END:STANDARD
BEGIN:DAYLIGHT
TZOFFSETFROM:+0100
TZOFFSETTO:+0200
TZNAME:CEST
DTSTART:20270328T010000
END:DAYLIGHT
BEGIN:STANDARD
TZOFFSETFROM:+0200
TZOFFSETTO:+0100
TZNAME:CET
DTSTART:20271031T010000
END:STANDARD
END:VTIMEZONE
BEGIN:VEVENT
DTSTART;TZID=Europe/Oslo:20260424T120000
DTEND;TZID=Europe/Oslo:20260424T140000
DTSTAMP:20260424T122324
CREATED:20260129T102131Z
LAST-MODIFIED:20260129T102131Z
UID:4437-1777032000-1777039200@nokhamar.no
SUMMARY:Stikk innom - enkel servering
DESCRIPTION:Bli med på felles lunsj kl. 12 og «Stikk innom»! Påmelding til lunsj senest kl. 10 samme dag.
URL:https://nokhamar.no/arrangement/stikk-innom-enkel-servering-24-april-26/
LOCATION:Nok. Hamar\, Kristin Lavransdatters veg 18\, HAMAR\, 2316\, Norge
END:VEVENT
END:VCALENDAR